BEGIN:VCALENDAR
VERSION:2.0
PRODID:-//Grace Notes Music Studio - ECPv6.15.20//NONSGML v1.0//EN
CALSCALE:GREGORIAN
METHOD:PUBLISH
X-ORIGINAL-URL:https://meggrace.com
X-WR-CALDESC:Events for Grace Notes Music Studio
REFRESH-INTERVAL;VALUE=DURATION:PT1H
X-Robots-Tag:noindex
X-PUBLISHED-TTL:PT1H
BEGIN:VTIMEZONE
TZID:America/Los_Angeles
BEGIN:DAYLIGHT
TZOFFSETFROM:-0800
TZOFFSETTO:-0700
TZNAME:PDT
DTSTART:20160313T100000
END:DAYLIGHT
BEGIN:STANDARD
TZOFFSETFROM:-0700
TZOFFSETTO:-0800
TZNAME:PST
DTSTART:20161106T090000
END:STANDARD
BEGIN:DAYLIGHT
TZOFFSETFROM:-0800
TZOFFSETTO:-0700
TZNAME:PDT
DTSTART:20170312T100000
END:DAYLIGHT
BEGIN:STANDARD
TZOFFSETFROM:-0700
TZOFFSETTO:-0800
TZNAME:PST
DTSTART:20171105T090000
END:STANDARD
BEGIN:DAYLIGHT
TZOFFSETFROM:-0800
TZOFFSETTO:-0700
TZNAME:PDT
DTSTART:20180311T100000
END:DAYLIGHT
BEGIN:STANDARD
TZOFFSETFROM:-0700
TZOFFSETTO:-0800
TZNAME:PST
DTSTART:20181104T090000
END:STANDARD
END:VTIMEZONE
BEGIN:VEVENT
DTSTART;TZID=America/Los_Angeles:20170506T190000
DTEND;TZID=America/Los_Angeles:20170506T210000
DTSTAMP:20260421T090553
CREATED:20170428T171018Z
LAST-MODIFIED:20170428T171018Z
UID:4490-1494097200-1494104400@meggrace.com
SUMMARY:Sounds of Spring
DESCRIPTION:Portland Wind Symphony will perform a variety of wind band classics for our free Springtime performance. \nProgram: \n\nSuite of Old American Dances by Bennett\nAndante Commodamente by Kallinikov\nArmy Of The Nile by Alford\nThe Gum-Suckers March by Grainger\nLa Fiesta Mexicana by Reed\n\n 
URL:https://meggrace.com/event/sounds-of-spring/
LOCATION:West Linn High School\, 5464 W A Street\, West Linn\, Oregon\, 97068
CATEGORIES:portland wind symphony
END:VEVENT
END:VCALENDAR