BEGIN:VCALENDAR
VERSION:2.0
PRODID:-//Grace Notes Music Studio - ECPv6.15.20//NONSGML v1.0//EN
CALSCALE:GREGORIAN
METHOD:PUBLISH
X-ORIGINAL-URL:https://meggrace.com
X-WR-CALDESC:Events for Grace Notes Music Studio
REFRESH-INTERVAL;VALUE=DURATION:PT1H
X-Robots-Tag:noindex
X-PUBLISHED-TTL:PT1H
BEGIN:VTIMEZONE
TZID:America/Los_Angeles
BEGIN:DAYLIGHT
TZOFFSETFROM:-0800
TZOFFSETTO:-0700
TZNAME:PDT
DTSTART:20170312T100000
END:DAYLIGHT
BEGIN:STANDARD
TZOFFSETFROM:-0700
TZOFFSETTO:-0800
TZNAME:PST
DTSTART:20171105T090000
END:STANDARD
BEGIN:DAYLIGHT
TZOFFSETFROM:-0800
TZOFFSETTO:-0700
TZNAME:PDT
DTSTART:20180311T100000
END:DAYLIGHT
BEGIN:STANDARD
TZOFFSETFROM:-0700
TZOFFSETTO:-0800
TZNAME:PST
DTSTART:20181104T090000
END:STANDARD
BEGIN:DAYLIGHT
TZOFFSETFROM:-0800
TZOFFSETTO:-0700
TZNAME:PDT
DTSTART:20190310T100000
END:DAYLIGHT
BEGIN:STANDARD
TZOFFSETFROM:-0700
TZOFFSETTO:-0800
TZNAME:PST
DTSTART:20191103T090000
END:STANDARD
END:VTIMEZONE
BEGIN:VEVENT
DTSTART;TZID=America/Los_Angeles:20180417T183000
DTEND;TZID=America/Los_Angeles:20180417T193000
DTSTAMP:20260423T183040
CREATED:20180209T200618Z
LAST-MODIFIED:20180315T223526Z
UID:4836-1523989800-1523993400@meggrace.com
SUMMARY:Recital: Hand Over Heart
DESCRIPTION:On April 17\, my students will be performing solos and small ensemble music for your enjoyment. \nThe theme is Hand Over Heart\, calling to mind the feelings that music stirs in us. \nMusic will include Stranger on the Shore for clarinet and guitar and Diversions by Bernard Heiden\, a concerto for alto saxophone and wind ensemble. \n 
URL:https://meggrace.com/event/april-17-student-recital/
LOCATION:The Courtyard at Mt. Tabor\, 6125 SE Division St\, Portland\, OR\, 97206\, United States
CATEGORIES:student recital
END:VEVENT
END:VCALENDAR