BEGIN:VCALENDAR
VERSION:2.0
PRODID:-//Grace Notes Music Studio - ECPv6.15.20//NONSGML v1.0//EN
CALSCALE:GREGORIAN
METHOD:PUBLISH
X-ORIGINAL-URL:https://meggrace.com
X-WR-CALDESC:Events for Grace Notes Music Studio
REFRESH-INTERVAL;VALUE=DURATION:PT1H
X-Robots-Tag:noindex
X-PUBLISHED-TTL:PT1H
BEGIN:VTIMEZONE
TZID:America/Los_Angeles
BEGIN:DAYLIGHT
TZOFFSETFROM:-0800
TZOFFSETTO:-0700
TZNAME:PDT
DTSTART:20170312T100000
END:DAYLIGHT
BEGIN:STANDARD
TZOFFSETFROM:-0700
TZOFFSETTO:-0800
TZNAME:PST
DTSTART:20171105T090000
END:STANDARD
BEGIN:DAYLIGHT
TZOFFSETFROM:-0800
TZOFFSETTO:-0700
TZNAME:PDT
DTSTART:20180311T100000
END:DAYLIGHT
BEGIN:STANDARD
TZOFFSETFROM:-0700
TZOFFSETTO:-0800
TZNAME:PST
DTSTART:20181104T090000
END:STANDARD
BEGIN:DAYLIGHT
TZOFFSETFROM:-0800
TZOFFSETTO:-0700
TZNAME:PDT
DTSTART:20190310T100000
END:DAYLIGHT
BEGIN:STANDARD
TZOFFSETFROM:-0700
TZOFFSETTO:-0800
TZNAME:PST
DTSTART:20191103T090000
END:STANDARD
END:VTIMEZONE
BEGIN:VEVENT
DTSTART;TZID=America/Los_Angeles:20180803T190000
DTEND;TZID=America/Los_Angeles:20180803T210000
DTSTAMP:20260423T231321
CREATED:20180621T000040Z
LAST-MODIFIED:20180720T213704Z
UID:5026-1533322800-1533330000@meggrace.com
SUMMARY:Wind Symphony Gets Cool at Beaverton Library
DESCRIPTION:Portland Wind Symphony will perform accessible classical music in an outdoor concert at the Beaverton Main Library.
URL:https://meggrace.com/event/wind-symphony-gets-cool-at-beaverton-library/
LOCATION:Beaverton Library\, 12375 SW 5th St\, Beaverton\, Oregon\, 97005\, United States
CATEGORIES:portland wind symphony
ATTACH;FMTTYPE=image/png:https://meggrace.com/wp-content/uploads/pws-logo-bwembossed.png
END:VEVENT
END:VCALENDAR