BEGIN:VCALENDAR
VERSION:2.0
PRODID:-//Grace Notes Music Studio - ECPv6.15.20//NONSGML v1.0//EN
CALSCALE:GREGORIAN
METHOD:PUBLISH
X-ORIGINAL-URL:https://meggrace.com
X-WR-CALDESC:Events for Grace Notes Music Studio
REFRESH-INTERVAL;VALUE=DURATION:PT1H
X-Robots-Tag:noindex
X-PUBLISHED-TTL:PT1H
BEGIN:VTIMEZONE
TZID:America/Los_Angeles
BEGIN:DAYLIGHT
TZOFFSETFROM:-0800
TZOFFSETTO:-0700
TZNAME:PDT
DTSTART:20180311T100000
END:DAYLIGHT
BEGIN:STANDARD
TZOFFSETFROM:-0700
TZOFFSETTO:-0800
TZNAME:PST
DTSTART:20181104T090000
END:STANDARD
BEGIN:DAYLIGHT
TZOFFSETFROM:-0800
TZOFFSETTO:-0700
TZNAME:PDT
DTSTART:20190310T100000
END:DAYLIGHT
BEGIN:STANDARD
TZOFFSETFROM:-0700
TZOFFSETTO:-0800
TZNAME:PST
DTSTART:20191103T090000
END:STANDARD
BEGIN:DAYLIGHT
TZOFFSETFROM:-0800
TZOFFSETTO:-0700
TZNAME:PDT
DTSTART:20200308T100000
END:DAYLIGHT
BEGIN:STANDARD
TZOFFSETFROM:-0700
TZOFFSETTO:-0800
TZNAME:PST
DTSTART:20201101T090000
END:STANDARD
END:VTIMEZONE
BEGIN:VEVENT
DTSTART;TZID=America/Los_Angeles:20190218T193000
DTEND;TZID=America/Los_Angeles:20190218T210000
DTSTAMP:20260424T113932
CREATED:20190213T232124Z
LAST-MODIFIED:20190213T232124Z
UID:5339-1550518200-1550523600@meggrace.com
SUMMARY:PWS Winter Concert
DESCRIPTION:Our Winter Concert Program: \n\n\n\n\nDaughters of Texas\nSousa \nOctober\nEric Whitacre \nOverture 1812\nTchaikovsky/ Lake \n\n\n\n\nLord of the Rings (Gandalf)\nJohan Demeij \nSuite Francaise\nDarius Milhaud \nVictory at Sea\nRichard Rogers
URL:https://meggrace.com/event/pws-winter-concert/
LOCATION:Legacy Emmanuel\, 2801 N Gantenbein Ave\, Portland\, OR\, 97227\, United States
CATEGORIES:portland wind symphony
ATTACH;FMTTYPE=image/jpeg:https://meggrace.com/wp-content/uploads/PWS-Winter-Concert-2019.jpg
END:VEVENT
END:VCALENDAR