BEGIN:VCALENDAR
VERSION:2.0
PRODID:-//Grace Notes Music Studio - ECPv6.15.20//NONSGML v1.0//EN
CALSCALE:GREGORIAN
METHOD:PUBLISH
X-WR-CALNAME:Grace Notes Music Studio
X-ORIGINAL-URL:https://meggrace.com
X-WR-CALDESC:Events for Grace Notes Music Studio
REFRESH-INTERVAL;VALUE=DURATION:PT1H
X-Robots-Tag:noindex
X-PUBLISHED-TTL:PT1H
BEGIN:VTIMEZONE
TZID:America/Los_Angeles
BEGIN:DAYLIGHT
TZOFFSETFROM:-0800
TZOFFSETTO:-0700
TZNAME:PDT
DTSTART:20160313T100000
END:DAYLIGHT
BEGIN:STANDARD
TZOFFSETFROM:-0700
TZOFFSETTO:-0800
TZNAME:PST
DTSTART:20161106T090000
END:STANDARD
BEGIN:DAYLIGHT
TZOFFSETFROM:-0800
TZOFFSETTO:-0700
TZNAME:PDT
DTSTART:20170312T100000
END:DAYLIGHT
BEGIN:STANDARD
TZOFFSETFROM:-0700
TZOFFSETTO:-0800
TZNAME:PST
DTSTART:20171105T090000
END:STANDARD
BEGIN:DAYLIGHT
TZOFFSETFROM:-0800
TZOFFSETTO:-0700
TZNAME:PDT
DTSTART:20180311T100000
END:DAYLIGHT
BEGIN:STANDARD
TZOFFSETFROM:-0700
TZOFFSETTO:-0800
TZNAME:PST
DTSTART:20181104T090000
END:STANDARD
END:VTIMEZONE
BEGIN:VEVENT
DTSTART;TZID=America/Los_Angeles:20171111T193000
DTEND;TZID=America/Los_Angeles:20171111T213000
DTSTAMP:20260423T082550
CREATED:20171005T001348Z
LAST-MODIFIED:20171005T001554Z
UID:4686-1510428600-1510435800@meggrace.com
SUMMARY:#Resist with Portland Gay Symphonic Band
DESCRIPTION:Please join the Portland Gay Symphonic Band for our fall concert titled #RESIST\, featuring pieces from Del Borgo\, Revueltas\, Van der Roost\, Shostakovich and more. \nWe are offering this concert for FREE to our community with a suggest donation between $15-40.
URL:https://meggrace.com/event/resist-portland-gay-symphonic-band/
LOCATION:Kaul Auditorium @ Reed College\, 3203 SE Woodstock Blvd\, Portland\, OR\, 97202\, United States
CATEGORIES:portland gay symphonic band
ATTACH;FMTTYPE=image/jpeg:https://meggrace.com/wp-content/uploads/resist-concert-300.jpg
END:VEVENT
BEGIN:VEVENT
DTSTART;TZID=America/Los_Angeles:20171128T183000
DTEND;TZID=America/Los_Angeles:20171128T193000
DTSTAMP:20260423T082550
CREATED:20171005T001923Z
LAST-MODIFIED:20171005T001923Z
UID:4693-1511893800-1511897400@meggrace.com
SUMMARY:My Favorite Things
DESCRIPTION:My favorite things are music! At this Fall recital\, students will perform Take Five\, Willow Weep for Me (sax quartet!)\, Mozart’s Sonata in C major\, and Schubert’s Ave Maria and others. \n 
URL:https://meggrace.com/event/my-favorite-things/
LOCATION:The Courtyard at Mt. Tabor\, 6125 SE Division St\, Portland\, OR\, 97206\, United States
CATEGORIES:student recital
END:VEVENT
END:VCALENDAR