BEGIN:VCALENDAR
VERSION:2.0
PRODID:-//Grace Notes Music Studio - ECPv6.15.20//NONSGML v1.0//EN
CALSCALE:GREGORIAN
METHOD:PUBLISH
X-ORIGINAL-URL:https://meggrace.com
X-WR-CALDESC:Events for Grace Notes Music Studio
REFRESH-INTERVAL;VALUE=DURATION:PT1H
X-Robots-Tag:noindex
X-PUBLISHED-TTL:PT1H
BEGIN:VTIMEZONE
TZID:America/Los_Angeles
BEGIN:DAYLIGHT
TZOFFSETFROM:-0800
TZOFFSETTO:-0700
TZNAME:PDT
DTSTART:20170312T100000
END:DAYLIGHT
BEGIN:STANDARD
TZOFFSETFROM:-0700
TZOFFSETTO:-0800
TZNAME:PST
DTSTART:20171105T090000
END:STANDARD
BEGIN:DAYLIGHT
TZOFFSETFROM:-0800
TZOFFSETTO:-0700
TZNAME:PDT
DTSTART:20180311T100000
END:DAYLIGHT
BEGIN:STANDARD
TZOFFSETFROM:-0700
TZOFFSETTO:-0800
TZNAME:PST
DTSTART:20181104T090000
END:STANDARD
BEGIN:DAYLIGHT
TZOFFSETFROM:-0800
TZOFFSETTO:-0700
TZNAME:PDT
DTSTART:20190310T100000
END:DAYLIGHT
BEGIN:STANDARD
TZOFFSETFROM:-0700
TZOFFSETTO:-0800
TZNAME:PST
DTSTART:20191103T090000
END:STANDARD
END:VTIMEZONE
BEGIN:VEVENT
DTSTART;TZID=America/Los_Angeles:20180212T190000
DTEND;TZID=America/Los_Angeles:20180212T210000
DTSTAMP:20260423T132632
CREATED:20180127T004340Z
LAST-MODIFIED:20180127T004340Z
UID:4819-1518462000-1518469200@meggrace.com
SUMMARY:Portland Wind Symphony @ PSU
DESCRIPTION:Join us for a Monday night concert! Our program: \n\nA Savannah Symphony by Philip Sparke\nSerenity by Ola Gjeilo\nEl Capitan by J. P. Sousa\nRocky Point Holiday by Ron Nelson\nSojourn of Dreams by Kevin Walczyk\nMorning Star by David Maslanka\n\nSerenity is a beautiful expression of that concept in music. Rocky Point Holiday is fun to play\, playful and adventurous. \nSojourn of Dreams is a beautiful African-themed commissioned suite that honors and celebrates the life of Jeff Cumpston. Cumpston was a percussionist and music educator in the Portland area who was killed in an accident while traveling in Africa.
URL:https://meggrace.com/event/portland-wind-symphony-psu/
LOCATION:Lincoln Hall\, Portland State university\, 1620 SW Park Ave\, Portland\, OR\, 97201\, United States
CATEGORIES:portland wind symphony
ATTACH;FMTTYPE=image/png:https://meggrace.com/wp-content/uploads/pws.png
END:VEVENT
END:VCALENDAR