BEGIN:VCALENDAR
VERSION:2.0
PRODID:-//Grace Notes Music Studio - ECPv6.15.20//NONSGML v1.0//EN
CALSCALE:GREGORIAN
METHOD:PUBLISH
X-ORIGINAL-URL:https://meggrace.com
X-WR-CALDESC:Events for Grace Notes Music Studio
REFRESH-INTERVAL;VALUE=DURATION:PT1H
X-Robots-Tag:noindex
X-PUBLISHED-TTL:PT1H
BEGIN:VTIMEZONE
TZID:America/Los_Angeles
BEGIN:DAYLIGHT
TZOFFSETFROM:-0800
TZOFFSETTO:-0700
TZNAME:PDT
DTSTART:20170312T100000
END:DAYLIGHT
BEGIN:STANDARD
TZOFFSETFROM:-0700
TZOFFSETTO:-0800
TZNAME:PST
DTSTART:20171105T090000
END:STANDARD
BEGIN:DAYLIGHT
TZOFFSETFROM:-0800
TZOFFSETTO:-0700
TZNAME:PDT
DTSTART:20180311T100000
END:DAYLIGHT
BEGIN:STANDARD
TZOFFSETFROM:-0700
TZOFFSETTO:-0800
TZNAME:PST
DTSTART:20181104T090000
END:STANDARD
BEGIN:DAYLIGHT
TZOFFSETFROM:-0800
TZOFFSETTO:-0700
TZNAME:PDT
DTSTART:20190310T100000
END:DAYLIGHT
BEGIN:STANDARD
TZOFFSETFROM:-0700
TZOFFSETTO:-0800
TZNAME:PST
DTSTART:20191103T090000
END:STANDARD
END:VTIMEZONE
BEGIN:VEVENT
DTSTART;TZID=America/Los_Angeles:20181029T193000
DTEND;TZID=America/Los_Angeles:20181029T213000
DTSTAMP:20260424T034828
CREATED:20181028T204640Z
LAST-MODIFIED:20181028T204640Z
UID:5178-1540841400-1540848600@meggrace.com
SUMMARY:Portland Wind Symphony Fall Concert
DESCRIPTION: 
URL:https://meggrace.com/event/portland-wind-symphony-fall-concert-2/
LOCATION:Lincoln Hall\, Portland State university\, 1620 SW Park Ave\, Portland\, OR\, 97201\, United States
CATEGORIES:portland wind symphony
END:VEVENT
END:VCALENDAR